BEGIN:VCALENDAR
VERSION:2.0
PRODID:-//Voltando à Cristo - ECPv6.15.17.1//NONSGML v1.0//EN
CALSCALE:GREGORIAN
METHOD:PUBLISH
X-WR-CALNAME:Voltando à Cristo
X-ORIGINAL-URL:https://www.voltandoacristo.com.br
X-WR-CALDESC:Eventos para Voltando à Cristo
REFRESH-INTERVAL;VALUE=DURATION:PT1H
X-Robots-Tag:noindex
X-PUBLISHED-TTL:PT1H
BEGIN:VTIMEZONE
TZID:America/Sao_Paulo
BEGIN:STANDARD
TZOFFSETFROM:-0300
TZOFFSETTO:-0300
TZNAME:-03
DTSTART:20240101T000000
END:STANDARD
END:VTIMEZONE
BEGIN:VEVENT
DTSTART;VALUE=DATE:20251115
DTEND;VALUE=DATE:20251217
DTSTAMP:20260419T235542
CREATED:20231222T005916Z
LAST-MODIFIED:20251002T234248Z
UID:3906-1763164800-1765929599@www.voltandoacristo.com.br
SUMMARY:Conferência em Mossoró/RN 2025
DESCRIPTION:https://www.voltandoacristo.com.br/wp-content/uploads/2023/12/WhatsApp-Video-2025-10-01-at-21.30.01.mp4
URL:https://www.voltandoacristo.com.br/evento/conferencia-em-mossoro-2025/
END:VEVENT
END:VCALENDAR