BEGIN:VCALENDAR
VERSION:2.0
PRODID:-//Voltando à Cristo - ECPv6.15.17.1//NONSGML v1.0//EN
CALSCALE:GREGORIAN
METHOD:PUBLISH
X-WR-CALNAME:Voltando à Cristo
X-ORIGINAL-URL:https://www.voltandoacristo.com.br
X-WR-CALDESC:Eventos para Voltando à Cristo
REFRESH-INTERVAL;VALUE=DURATION:PT1H
X-Robots-Tag:noindex
X-PUBLISHED-TTL:PT1H
BEGIN:VTIMEZONE
TZID:America/Sao_Paulo
BEGIN:STANDARD
TZOFFSETFROM:-0300
TZOFFSETTO:-0300
TZNAME:-03
DTSTART:20230101T000000
END:STANDARD
END:VTIMEZONE
BEGIN:VEVENT
DTSTART;VALUE=DATE:20240802
DTEND;VALUE=DATE:20240805
DTSTAMP:20260420T000409
CREATED:20231222T004935Z
LAST-MODIFIED:20231222T004935Z
UID:3904-1722556800-1722815999@www.voltandoacristo.com.br
SUMMARY:XIII Encontro da Palavra 2024 (Brasil)
DESCRIPTION:
URL:https://www.voltandoacristo.com.br/evento/xiii-encontro-da-palavra-2024-brasil/
LOCATION:Acampamento Batista Mary Elisabeth Vaughan\, R. Projetada Dez\, Sumaré - SP\, Sumaré\, SP\, Brasil
END:VEVENT
END:VCALENDAR